BEGIN:VCALENDAR
VERSION:2.0
PRODID:-//CIS Tecnoloxía e Deseño - ECPv5.2.1//NONSGML v1.0//EN
CALSCALE:GREGORIAN
METHOD:PUBLISH
X-WR-CALNAME:CIS Tecnoloxía e Deseño
X-ORIGINAL-URL:https://www.cistecnoloxiaedeseno.gal/en/
X-WR-CALDESC:Events for CIS Tecnoloxía e Deseño
BEGIN:VTIMEZONE
TZID:Europe/Madrid
BEGIN:DAYLIGHT
TZOFFSETFROM:+0100
TZOFFSETTO:+0200
TZNAME:CEST
DTSTART:20230326T010000
END:DAYLIGHT
BEGIN:STANDARD
TZOFFSETFROM:+0200
TZOFFSETTO:+0100
TZNAME:CET
DTSTART:20231029T010000
END:STANDARD
END:VTIMEZONE
BEGIN:VEVENT
DTSTART;TZID=Europe/Madrid:20230919T090000
DTEND;TZID=Europe/Madrid:20230919T190000
DTSTAMP:20260424T012244
CREATED:20230808T073226Z
LAST-MODIFIED:20230908T090457Z
UID:11616-1695114000-1695150000@www.cistecnoloxiaedeseno.gal
SUMMARY:Evento presencial "Explorando os límites do Hardware RX"
DESCRIPTION:O día 19 de setembro celebrarase no CIS Tecnoloxía e Deseño de Ferrol un evento no que o público asistente poderá probar diferentes hardwares de realidade virtual\, aumentada e mixta. \nO evento compoñerase dunha mesa redonda\, unha exposición de empresas e entidades relevantes de diversos sectores que mostarán os seus desenvolvementos con tecnoloxías RX\, charlas temáticas e reunións B2B entre profesionais e entre empresas e profesionais e futuros profesionais. \nNo seguinte link podes atopar máis información sobre esta xornada\, reservada a profesionais e estudantes de universidade e FP\, así como o acceso á inscrición na mesma. \n  \nMáis información
URL:https://www.cistecnoloxiaedeseno.gal/en/evento/evento-presencial-explorando-los-limites-del-hardware-de-rx/
LOCATION:Centro de Innovación e Servizos da Tecnoloxía e o Deseño\, A Cabana\, s/n\, Ferrol\, A Coruña\, España\, 15590\, Spain
ATTACH;FMTTYPE=image/jpeg:https://www.cistecnoloxiaedeseno.gal/wp-content/uploads/2023/08/1920X800_Gal-copia-3.jpg
END:VEVENT
END:VCALENDAR