BEGIN:VCALENDAR
VERSION:2.0
PRODID:-//CIS Tecnoloxía e Deseño - ECPv5.2.1//NONSGML v1.0//EN
CALSCALE:GREGORIAN
METHOD:PUBLISH
X-WR-CALNAME:CIS Tecnoloxía e Deseño
X-ORIGINAL-URL:https://www.cistecnoloxiaedeseno.gal/es/
X-WR-CALDESC:Eventos para CIS Tecnoloxía e Deseño
BEGIN:VTIMEZONE
TZID:Europe/Madrid
BEGIN:DAYLIGHT
TZOFFSETFROM:+0100
TZOFFSETTO:+0200
TZNAME:CEST
DTSTART:20230326T010000
END:DAYLIGHT
BEGIN:STANDARD
TZOFFSETFROM:+0200
TZOFFSETTO:+0100
TZNAME:CET
DTSTART:20231029T010000
END:STANDARD
END:VTIMEZONE
BEGIN:VEVENT
DTSTART;TZID=Europe/Madrid:20230928T100000
DTEND;TZID=Europe/Madrid:20230928T133000
DTSTAMP:20260423T140933
CREATED:20230811T104217Z
LAST-MODIFIED:20230811T104436Z
UID:12269-1695895200-1695907800@www.cistecnoloxiaedeseno.gal
SUMMARY:Encuentro de Transferencia e Innovación en Nuevos Materiales
DESCRIPTION:La Axencia Galega de Innovación de la Xunta de Galicia\, en colaboración con la Fundación Barrié\, organiza el «Encuentro de Transferencia e Innovación en Nuevos Materiales» en el marco del Programa Ignicia Transferencia de Conocimiento. \nEste encuentro busca propiciar conexiones entre empresas y centros de conocimiento del Sistema Gallego de I+D+i que puedan dar lugar a proyectos de valorización y transferencia en el campo de los materiales avanzados\, como por ejemplo los aplicados a la acumulación energética\, la funcionalización de superficies y la gestión de residuos\, entre otros. \nY es que los materiales avanzados abren un amplio abanico de oportunidades de innovación en diversas industrias de distintos sectores. Propiedades como la resistencia\, ligereza\, durabilidad y propiedades térmicas y eléctricas mejoradas\, permiten el diseño de productos diferenciales de alto valor añadido\, la optimización de procesos y el incremento de la productividad y la seguridad. Asimismo\, permiten avanzar hacia un futuro más sostenible y orientado a la economía circular\, donde la eficiencia\, la conservación de recursos y la reducción de impacto ambiental son pilares fundamentales para el desarrollo industrial. \nLas firmas interesadas en participar en el encuentro podrán proponer su reto o área de interés y un equipo de expertos en innovación en materiales aplicados a productos y procesos industriales identificará las capacidades tecnológicas de los centros del sistema gallego de I+D+i que respondan a las necesidades formuladas por las empresas. Por último\, se propondrá a ambas entidades una reunión\, que tendrá lugar en la jornada de networking del 28 de septiembre en la Materioteca de Galicia (CIS Tecnología e Deseño\, Ferrol). \nConsulte toda la información del programa aquí. El plazo de inscripción para las empresas finaliza el día 15 de septiembre\,puede cubrir el formulario de presentación de retos en el siguiente enlace. \nPara cualquier duda o aclaración\, puede ponerse en contacto a través del correo electrónico programacion.centros.gain@xunta.gal o en el teléfono 981 957 012.
URL:https://www.cistecnoloxiaedeseno.gal/es/evento/encontro-de-transferencia-e-innovacion-en-novos-materiais/
LOCATION:Centro de Innovación y Servicios de la Tecnología y el Diseño\, A Cabana\, s/n\, Ferrol\, A Coruña\, España\, 15590\, Spain
ATTACH;FMTTYPE=image/png:https://www.cistecnoloxiaedeseno.gal/wp-content/uploads/2023/08/banner-seccion-evento-materioteca-gal.png
END:VEVENT
END:VCALENDAR