BEGIN:VCALENDAR
VERSION:2.0
PRODID:-//CIS Tecnoloxía e Deseño - ECPv5.2.1//NONSGML v1.0//EN
CALSCALE:GREGORIAN
METHOD:PUBLISH
X-WR-CALNAME:CIS Tecnoloxía e Deseño
X-ORIGINAL-URL:https://www.cistecnoloxiaedeseno.gal/es/
X-WR-CALDESC:Eventos para CIS Tecnoloxía e Deseño
BEGIN:VTIMEZONE
TZID:Europe/Madrid
BEGIN:DAYLIGHT
TZOFFSETFROM:+0100
TZOFFSETTO:+0200
TZNAME:CEST
DTSTART:20230326T010000
END:DAYLIGHT
BEGIN:STANDARD
TZOFFSETFROM:+0200
TZOFFSETTO:+0100
TZNAME:CET
DTSTART:20231029T010000
END:STANDARD
END:VTIMEZONE
BEGIN:VEVENT
DTSTART;VALUE=DATE:20231003
DTEND;VALUE=DATE:20231004
DTSTAMP:20260423T065525
CREATED:20230921T104734Z
LAST-MODIFIED:20230921T105440Z
UID:12585-1696291200-1696377599@www.cistecnoloxiaedeseno.gal
SUMMARY:Jornada Online: Eleva tu Vigilancia e Inteligencia Estratégica con Herramientas Avanzadas
DESCRIPTION:El CIS Tecnoloxía e Deseño de la Axencia Galega de Innovación (GAIN)\, dentro de sus actividades enmarcadas en la red Enterprise Europe Network\, organiza el Ciclo Formativo sobre Vixilancia Tecnolóxica 2023\, que tiene como objetivo ayudar a las empresas gallegas a adaptarse al nuevo contexto empresarial\, un escenario altamente competitivo y en constante cambio. Esta nueva jornada estará dedicada a los recursos y herramientas de soporte a la Vigilancia e Inteligencia Estratégica. \nHoy en día es fundamental captar\, procesar y transformar en conocimiento útil la gran cantidad de datos e información disponible para la toma de decisiones dentro de una organización o institución\, para ello\, las herramientas de vigilancia tecnológica son un instrumento imprescindible. Este taller ofrecerá a los asistentes la oportunidad de conocer los recursos y herramientas que existen para dar soporte al ciclo de vigilancia\, a la vez que les aportará los criterios necesarios para poder elegir los más adecuados en cada caso. \nLa jornada será impartida por la docente ANGÉLICA LÓPEZ\, coordinadora de servicios de Inteligencia Competitiva en TECNALIA Research & Innovation. En esta posición\, coordina actividades y gestiona proyectos para empresas y entidades de innovación\, tanto a nivel regional y nacional como europeo. Trabaja en el ámbito de la vigilancia\, el análisis de tendencias tecnológicas y de mercado\, el desarrollo de observatorios tecnológicos o la definición y despliegue de unidades de vigilancia y procesos de VIE. Además\, tiene una amplia trayectoria como formadora en el ámbito de la VIE para instituciones públicas y empresas privadas. \nPrograma \n\n9:20 – 9:30h Presentación a cargo de María José Mariño Fontenla. Directora de Área de Centros de GAIN\n 9:30 – 11:50h Jornada\n\n\n\n\nRecursos y herramientas para la definición del proceso de vigilancia e inteligencia estratégica\n\nImportancia de las herramientas y recursos en la vigilancia e inteligencia estratégica\nHerramientas para la definición de las necesidades de información\nHerramientas de soporte para la definición del plan de vigilancia y de productos VIE\n\n\nRecursos y herramientas de soporte al ciclo de vigilancia e inteligencia Estratégica\n\nVisión general del ciclo de vigilancia e inteligencia estratégica\nHerramientas para la obtención de información de distintos tipos de fuentes de información (formales/informales\, virtuales-presenciales)\nHerramientas para el tratamiento de información\nHerramientas para la difusión de resultados\nHerramientas para la explotación de resultados\nHerramientas globales de soporte a la actividad de VIE\n\n\nEjemplos de utilización de herramientas\n\nGoogle Alerts para la detección de novedades\nGoogle news\nGoogle Schoolar\nCreación de alertas de patentes con Espacenet\nLectores RSS – Outlook\nMonitorización de redes sociales\nFeedly para la agregación de contenidos y noticias\n\n\n\n\n11:50 – 12:00h Ruegos y preguntas\n\nPlazas limitadas \nFormulario de inscripción \nPrograma en pdf
URL:https://www.cistecnoloxiaedeseno.gal/es/evento/jornada-online-eleva-tu-vigilancia-e-inteligencia-estrategica-con-herramientas-avanzadas/
LOCATION:Ciclo Online
ATTACH;FMTTYPE=image/gif:https://www.cistecnoloxiaedeseno.gal/wp-content/uploads/2023/09/Herramientas-Banner950x430_animado_es.gif
END:VEVENT
BEGIN:VEVENT
DTSTART;TZID=Europe/Madrid:20231003T080000
DTEND;TZID=Europe/Madrid:20231005T170000
DTSTAMP:20260423T065525
CREATED:20230524T081159Z
LAST-MODIFIED:20230524T081233Z
UID:10259-1696320000-1696525200@www.cistecnoloxiaedeseno.gal
SUMMARY:Evento de reuniones virtuales B2B en el marco de la Feria Internacional de Productos del Mar Congelados CONXEMAR 2023
DESCRIPTION:La Axencia Galega de Innovación en colaboración con la Confederación de Empresarios de Galicia\, a través del Consorcio EEN-GalacteaPlus del proyecto europeo Enterprise Europe Network (EEN)\, organizan del 3 al 5 de octubre el Evento de reuniones virtuales B2B en el marco de la Feria Internacional de Productos del Mar Congelados CONXEMAR 2023.\n\nEstas jornadas permitirán a los participantes obtener de forma gratuita una agenda de reuniones que constituirá una oportunidad única para:\n\n– Establecer contactos con potenciales socios comerciales internacionales y nacionales\n– Conocer nuevas tecnologías presentes en el sector\n– Iniciar proyectos de cooperación tecnológica y/o empresarial\n\nEsta actividad se enmarca dentro de las acciones que se llevan a cabo dentro del proyecto europeo Enterprise Europe Network en el que participan cerca de 600 entidades de más de 60 países de la UE y asociados.\n\nRegistro y solicitud de reuniones en: https://b2b-at-conxemar-international-frozen.b2match.io/\n\nPara cualquier duda o consulta estamos a tu disposición en el teléfono 981 33 71 46 o en el correo electrónico: galactea.gain@xunta.gal
URL:https://www.cistecnoloxiaedeseno.gal/es/evento/evento-de-reuniones-virtuales-b2b-en-el-marco-de-la-feria-internacional-de-productos-del-mar-congelados-conxemar-2023/
LOCATION:Ciclo Online
CATEGORIES:Eventos EEN
ATTACH;FMTTYPE=image/png:https://www.cistecnoloxiaedeseno.gal/wp-content/uploads/2023/05/Conxemar-banner-web-CIS.png
END:VEVENT
END:VCALENDAR