BEGIN:VCALENDAR
VERSION:2.0
PRODID:-//CIS Tecnoloxía e Deseño - ECPv5.2.1//NONSGML v1.0//EN
CALSCALE:GREGORIAN
METHOD:PUBLISH
X-WR-CALNAME:CIS Tecnoloxía e Deseño
X-ORIGINAL-URL:https://www.cistecnoloxiaedeseno.gal
X-WR-CALDESC:Events for CIS Tecnoloxía e Deseño
BEGIN:VTIMEZONE
TZID:Europe/Madrid
BEGIN:DAYLIGHT
TZOFFSETFROM:+0100
TZOFFSETTO:+0200
TZNAME:CEST
DTSTART:20220327T010000
END:DAYLIGHT
BEGIN:STANDARD
TZOFFSETFROM:+0200
TZOFFSETTO:+0100
TZNAME:CET
DTSTART:20221030T010000
END:STANDARD
END:VTIMEZONE
BEGIN:VEVENT
DTSTART;TZID=Europe/Madrid:20220504T103000
DTEND;TZID=Europe/Madrid:20220504T133000
DTSTAMP:20260420T031116
CREATED:20220427T073434Z
LAST-MODIFIED:20220427T074628Z
UID:8270-1651660200-1651671000@www.cistecnoloxiaedeseno.gal
SUMMARY:Proxecto Design4Innovation. Deseño para a innovación social: novas oportunidades.
DESCRIPTION:O próximo 4 de maio\, e no marco do proxecto Interreg Europe Design 4 Innovation\, celebrarase de forma presencial no CIS Tecnoloxía e Deseño de Ferrol un encontro titulado “Deseño para a innovación social: novas oportunidades”\, coa finalidade de debater con diversos expertos sobre o impacto que actualmente están a ter as axudas de apoio ao deseño e a mellor orientación que podería darse a futuras accións para conseguir potenciar a innovación social a través do deseño. \nNeste encontro contaremos con colaboración de Rodrigo Martínez y Paula Fernández de (Deusto Design Research Group)\, David Barro (Fundación DIDAC)\, Leticia Costas (KidCode) y África Rodríguez (Espacio Arroelo). \nLigazón ao programa: Programa  \nLigazón a incripción: Formulario de inscrición \n\n 
URL:https://www.cistecnoloxiaedeseno.gal/evento/proxecto-design4innovation-deseno-para-a-innovacion-social-novas-oportunidades/
LOCATION:Centro de Innovación e Servizos da Tecnoloxía e o Deseño\, A Cabana\, s/n\, Ferrol\, A Coruña\, España\, 15590\, Spain
CATEGORIES:Eventos CIS
ATTACH;FMTTYPE=image/jpeg:https://www.cistecnoloxiaedeseno.gal/wp-content/uploads/2022/04/cabeceradesing.jpg
END:VEVENT
END:VCALENDAR