BEGIN:VCALENDAR
VERSION:2.0
PRODID:-//CIS Tecnoloxía e Deseño - ECPv5.2.1//NONSGML v1.0//EN
CALSCALE:GREGORIAN
METHOD:PUBLISH
X-WR-CALNAME:CIS Tecnoloxía e Deseño
X-ORIGINAL-URL:https://www.cistecnoloxiaedeseno.gal
X-WR-CALDESC:Events for CIS Tecnoloxía e Deseño
BEGIN:VTIMEZONE
TZID:Europe/Madrid
BEGIN:DAYLIGHT
TZOFFSETFROM:+0100
TZOFFSETTO:+0200
TZNAME:CEST
DTSTART:20210328T010000
END:DAYLIGHT
BEGIN:STANDARD
TZOFFSETFROM:+0200
TZOFFSETTO:+0100
TZNAME:CET
DTSTART:20211031T010000
END:STANDARD
END:VTIMEZONE
BEGIN:VEVENT
DTSTART;TZID=Europe/Madrid:20210922T100000
DTEND;TZID=Europe/Madrid:20210922T120000
DTSTAMP:20260421T081340
CREATED:20210916T073044Z
LAST-MODIFIED:20220311T162556Z
UID:6556-1632304800-1632312000@www.cistecnoloxiaedeseno.gal
SUMMARY:Solucións Nanotecnolóxicas orientadas ao Mercado
DESCRIPTION:A Axencia Galega de Innovación\, en calidade de coordinador do proxecto\, organiza o evento virtual “SOLUCIÓNS NANOTECNOLÓXICAS ORIENTADAS AO MERCADO”\, que terá lugar o mércores 22 de setembro\, como xornada de peche do proxecto NANOEATERS (http://gain.xunta.gal/artigos/354/proyecto+nanoeaters). Este evento ten por obxectivo dar a coñecer cómo a nanotecnoloxía pode axudar ás empresas de  sectores como o  agroalimentario\, a acuicultura\, o medio ambiente\, a automoción ou a saúde. \nO proxecto NANOeaters\, cofinanciado polo Fondo Europeo de Desenvolvemento Rexional FEDER a través do Programa Interreg V-A España-Portugal (POCTEP) 2014-2020 cun orzamento de máis de 4 millóns de euros\, está liderado pola Xunta de Galicia e conta coa participación do Laboratorio Ibérico Internacional de Nanotecnología (INL)\, as Universidades de Vigo e Santiago de Compostela\, os centros tecnolóxicos Gradiant\, CTAG e AIMEN; e a Fundación Biomédica Galicia Sur. \nNANOeaters nace co obxectivo de apoiar ás empresas da Eurorrexión na aplicación de solucións nanotecnóloxicas  que ofrezan respostas efectivas ás debilidades detectadas na Estratexia de Especialización Intelixente da Eurorrexión Galicia – Norte de Portugal. \nRexistro: https://attendee.gotowebinar.com/register/977600395205416971 \nPROGRAMAES
URL:https://www.cistecnoloxiaedeseno.gal/evento/solucions-nanotecnoloxicas-orientadas-ao-mercado/
LOCATION:Ciclo Online
CATEGORIES:Eventos CIS
ATTACH;FMTTYPE=image/png:https://www.cistecnoloxiaedeseno.gal/wp-content/uploads/2021/09/bannercierre.png
END:VEVENT
END:VCALENDAR