BEGIN:VCALENDAR
VERSION:2.0
PRODID:-//CIS Tecnoloxía e Deseño - ECPv5.2.1//NONSGML v1.0//EN
CALSCALE:GREGORIAN
METHOD:PUBLISH
X-WR-CALNAME:CIS Tecnoloxía e Deseño
X-ORIGINAL-URL:https://www.cistecnoloxiaedeseno.gal
X-WR-CALDESC:Events for CIS Tecnoloxía e Deseño
BEGIN:VTIMEZONE
TZID:Europe/Madrid
BEGIN:DAYLIGHT
TZOFFSETFROM:+0100
TZOFFSETTO:+0200
TZNAME:CEST
DTSTART:20230326T010000
END:DAYLIGHT
BEGIN:STANDARD
TZOFFSETFROM:+0200
TZOFFSETTO:+0100
TZNAME:CET
DTSTART:20231029T010000
END:STANDARD
END:VTIMEZONE
BEGIN:VEVENT
DTSTART;TZID=Europe/Madrid:20230914T100000
DTEND;TZID=Europe/Madrid:20230914T140000
DTSTAMP:20260424T091904
CREATED:20230804T102037Z
LAST-MODIFIED:20230831T122527Z
UID:11610-1694685600-1694700000@www.cistecnoloxiaedeseno.gal
SUMMARY:Bootcamp: Proceso de decisión para a adquisición de tecnoloxías complexas (ESPAÑA)
DESCRIPTION:Navegando o Futuro é un proxecto europeo que busca consolidar a transición tecnolóxica e promover a innovación no sector naval da Eurorrexión Galicia-Norte de Portugal. Para alcanzar esta meta\, estánse a realizar diferentes accións\, entre elas sesións de formación e bootcamps destinados a facilitar a toma de decisións para a adquisición de tecnoloxías complexas en pemes da industria naval. \nOs bootcamps teñen como obxectivo mellorar os procesos empresariais antes de dixitalizalos (evitar a automatización de desperdicios)\, elixir a tecnoloxía adecuada de acordo ás súas necesidades e controlar a xestión do cambio para beneficiarse plenamente da tecnoloxía. O obxectivo é poñer en práctica os conceptos de mapeo da cadea de valor e análise da madurez dixital das empresas participantes\, a través dun caso práctico que abarque tanto os fluxos físicos como os de información. \nAdemais\, xerarase a capacidade de mapear a cadea de valor actual e medir e cuantificar as diferentes oportunidades de mellora\, tendo en cuenta os inputs tecnolóxicos dispoñibles. Como resultado\, obterase un plan de implementación a través das metodoloxías de traballo Eventos Kaizen e Proxectos Tecnolóxicos. \nMáis información e inscricións: aclunaga@aclunaga.es \nPrograma sesión en España
URL:https://www.cistecnoloxiaedeseno.gal/evento/bootcamp-proceso-de-decision-para-la-adquisicion-de-tecnologias-complejas-espana/
ATTACH;FMTTYPE=image/jpeg:https://www.cistecnoloxiaedeseno.gal/wp-content/uploads/2023/06/descarga-eventos-bootcamp-julio.jpg
END:VEVENT
END:VCALENDAR