BEGIN:VCALENDAR
VERSION:2.0
PRODID:-//CIS Tecnoloxía e Deseño - ECPv5.2.1//NONSGML v1.0//EN
CALSCALE:GREGORIAN
METHOD:PUBLISH
X-WR-CALNAME:CIS Tecnoloxía e Deseño
X-ORIGINAL-URL:https://www.cistecnoloxiaedeseno.gal
X-WR-CALDESC:Events for CIS Tecnoloxía e Deseño
BEGIN:VTIMEZONE
TZID:Europe/Madrid
BEGIN:DAYLIGHT
TZOFFSETFROM:+0100
TZOFFSETTO:+0200
TZNAME:CEST
DTSTART:20230326T010000
END:DAYLIGHT
BEGIN:STANDARD
TZOFFSETFROM:+0200
TZOFFSETTO:+0100
TZNAME:CET
DTSTART:20231029T010000
END:STANDARD
END:VTIMEZONE
BEGIN:VEVENT
DTSTART;VALUE=DATE:20230918
DTEND;VALUE=DATE:20230919
DTSTAMP:20260424T034446
CREATED:20230719T070301Z
LAST-MODIFIED:20230721T084127Z
UID:10893-1694995200-1695081599@www.cistecnoloxiaedeseno.gal
SUMMARY:Cursos on-line Horizonte Europa
DESCRIPTION:O CIS Tecnoloxía e Deseño da Axencia Galega de Innovación (GAIN) dentro das súas actividades enmarcadas na rede Enterprise Europe Network pon en marcha o próximo 18 de setembro un programa formativo on-line dirixido a formar ás pemes galegas no programa Horizonte Europa. \nEste programa formativo on-line\, consta de 2 cursos\, un dirixido a pemes sen experiencia previa na participación no programa Horizonte Europa (10 horas) e outro a pemes con experiencia (15 horas e 1 hora de mentorización para revisar as súas ideas de proxecto despois da finalización do curso). \nPara que a formación se poida desenvolver dunha maneira máis efectiva e personalizada o número de prazas é limitado. \nA selección das entidades realizarase en base á información da seguinte ficha de selección. \nData límite para a inscrición: 13 de setembro de 2023 \nPrograma pemes sen experiencia\nPrograma pemes con experiencia\nInscrición \nFicha de selección (importante): ademáis de cubrir o formulario de inscrición é imprescindible enviar esta ficha ao correo electrónico galactea.gain@xunta.gal)
URL:https://www.cistecnoloxiaedeseno.gal/evento/cursos-on-line-horizonte-europa/
LOCATION:Ciclo Online
ATTACH;FMTTYPE=image/png:https://www.cistecnoloxiaedeseno.gal/wp-content/uploads/2023/07/BannerHE_gal_950x475.png
END:VEVENT
END:VCALENDAR