BEGIN:VCALENDAR
VERSION:2.0
PRODID:-//CIS Tecnoloxía e Deseño - ECPv5.2.1//NONSGML v1.0//EN
CALSCALE:GREGORIAN
METHOD:PUBLISH
X-WR-CALNAME:CIS Tecnoloxía e Deseño
X-ORIGINAL-URL:https://www.cistecnoloxiaedeseno.gal
X-WR-CALDESC:Events for CIS Tecnoloxía e Deseño
BEGIN:VTIMEZONE
TZID:Europe/Madrid
BEGIN:DAYLIGHT
TZOFFSETFROM:+0100
TZOFFSETTO:+0200
TZNAME:CEST
DTSTART:20230326T010000
END:DAYLIGHT
BEGIN:STANDARD
TZOFFSETFROM:+0200
TZOFFSETTO:+0100
TZNAME:CET
DTSTART:20231029T010000
END:STANDARD
END:VTIMEZONE
BEGIN:VEVENT
DTSTART;TZID=Europe/Madrid:20230928T100000
DTEND;TZID=Europe/Madrid:20230928T133000
DTSTAMP:20260423T135626
CREATED:20230811T104217Z
LAST-MODIFIED:20230811T104520Z
UID:12263-1695895200-1695907800@www.cistecnoloxiaedeseno.gal
SUMMARY:Encontro de Transferencia e Innovación en Novos Materiais
DESCRIPTION:A Axencia Galega de Innovación da Xunta de Galicia\, en colaboración coa Fundación Barrié\, organiza o «Encontro de Transferencia e Innovación en Novos Materiais» no marco do Programa Ignicia Transferencia de Coñecemento. \nEste encontro enfócase a propiciar conexións entre empresas e centros de coñecemento do Sistema Galego de I+D+i que poidan dar lugar a proxectos de valorización e transferencia no campo dos materiais avanzados\, como por exemplo os aplicados á acumulación enerxética\, a funcionalización de superficies e a xestión de residuos\, entre outros. \nE é que os materiais avanzados abren un amplo abanico de oportunidades de innovación en diversas industrias de distintos sectores. Propiedades como a resistencia\, lixeireza\, durabilidade e propiedades térmicas e eléctricas melloradas\, permiten o deseño de produtos diferenciais de alto valor engadido\, a optimización de procesos e o incremento da produtividade e a seguridade. Así mesmo\, permiten avanzar cara un futuro máis sostible e orientado á economía circular\, onde a eficiencia\, a conservación de recursos e a redución de impacto ambiental son piares fundamentais para o desenvolvemento industrial. \nAs firmas interesadas en participar no encontro poderán propoñer o seu reto ou área de interese e un equipo de profesionais en innovación en materiais aplicados a produtos e procesos industriais identificará as capacidades tecnolóxicas dos centros do sistema galego de I+D+i que respondan ás necesidades formuladas polas empresas. Por último\, proporase a ambas entidades unha reunión\, que terá lugar na xornada de networking do 28 de setembro na Materioteca de Galicia (CIS Tecnoloxía e Deseño\, Ferrol). \nConsulte toda a información do programa premendo aquí. O prazo de inscrición para as empresas remata o día 15 de setembro\,pode cubrir o formulario de presentación de retos na seguinte ligazón. \nPara calquera dúbida ou aclaración\, pode poñerse en contacto a través do correo electrónico programacion.centros.gain@xunta.gal ou no teléfono 981 957 012.
URL:https://www.cistecnoloxiaedeseno.gal/evento/encontro-de-transferencia-e-innovacion-en-novos-materiais/
LOCATION:Centro de Innovación e Servizos da Tecnoloxía e o Deseño\, A Cabana\, s/n\, Ferrol\, A Coruña\, España\, 15590\, Spain
ATTACH;FMTTYPE=image/png:https://www.cistecnoloxiaedeseno.gal/wp-content/uploads/2023/08/banner-seccion-evento-materioteca-gal.png
END:VEVENT
END:VCALENDAR